BEGIN:VCALENDAR
VERSION:2.0
PRODID:-//wp-events-plugin.com//6.4.6.4//EN
BEGIN:VEVENT
UID:1@new.prinsesmarijke.nl
DTSTART:20240323T183000Z
DTEND:20240323T210000Z
DTSTAMP:20240208T081102Z
URL:https://new.prinsesmarijke.nl/evenementen/voorjaarsconcert/
SUMMARY:Voorjaarsconcert
DESCRIPTION:Zaterdag 23 maart zal ons voorjaarsconcert zijn! Dit jaar in he
 t thema van het jubileum
CATEGORIES:Hoofdorkest,Ontdek Je Talent Orkest,Opleidingsorkest
LOCATION:Dorpshuis Meteren\,  Achtersteweg 17\, Meteren\, Gelderland\,  419
 4TH\, Nederland
X-APPLE-STRUCTURED-LOCATION;VALUE=URI;X-ADDRESS= Achtersteweg 17\, Meteren\
 , Gelderland\,  4194TH\, Nederland;X-APPLE-RADIUS=100;X-TITLE=Dorpshuis Me
 teren:geo:0,0
END:VEVENT
END:VCALENDAR