BEGIN:VCALENDAR
VERSION:2.0
PRODID:-//wp-events-plugin.com//6.4.6.4//EN
BEGIN:VEVENT
UID:3@new.prinsesmarijke.nl
DTSTART:20240413T080000Z
DTEND:20240413T190000Z
DTSTAMP:20240208T105819Z
URL:https://new.prinsesmarijke.nl/evenementen/play-in/
SUMMARY:Play-in
DESCRIPTION:
LOCATION:Lingeborgh Geldermalsen\,  Laan van Leeuwenstein 2\, Geldermalsen\
 , Gelderland\, 4191NB\, Nederland
X-APPLE-STRUCTURED-LOCATION;VALUE=URI;X-ADDRESS= Laan van Leeuwenstein 2\, 
 Geldermalsen\, Gelderland\, 4191NB\, Nederland;X-APPLE-RADIUS=100;X-TITLE=
 Lingeborgh Geldermalsen:geo:0,0
END:VEVENT
END:VCALENDAR