BEGIN:VCALENDAR
VERSION:2.0
PRODID:-//wp-events-plugin.com//6.4.6.4//EN
BEGIN:VEVENT
UID:5@new.prinsesmarijke.nl
DTSTART:20251225T090000Z
DTEND:20251225T103000Z
DTSTAMP:20250701T193642Z
URL:https://new.prinsesmarijke.nl/evenementen/kerstdienst/
SUMMARY:Kerstdienst
DESCRIPTION:Het hoofdorkest zal 25 december 2025 de ochtend dienst in de PK
 N Gereformeerde Kerk aan de Emmalaan in Geldermalsen begeleiden
CATEGORIES:Hoofdorkest
LOCATION:PKN Gereformeerde Kerk Geldermalsen\, Ds. R. Lomanlaan 7\, Gelderm
 alsen\, 4191 GR\, Nederland
X-APPLE-STRUCTURED-LOCATION;VALUE=URI;X-ADDRESS=Ds. R. Lomanlaan 7\, Gelder
 malsen\, 4191 GR\, Nederland;X-APPLE-RADIUS=100;X-TITLE=PKN Gereformeerde 
 Kerk Geldermalsen:geo:0,0
END:VEVENT
END:VCALENDAR