BEGIN:VCALENDAR
VERSION:2.0
PRODID:-//wp-events-plugin.com//6.4.6.4//EN
BEGIN:VEVENT
UID:7@new.prinsesmarijke.nl
DTSTART:20260504T180000Z
DTEND:20260504T193000Z
DTSTAMP:20250701T193927Z
URL:https://new.prinsesmarijke.nl/evenementen/dodenherdenking/
SUMMARY:Dodenherdenking
DESCRIPTION:Op 4 mei zal het hoofdorkest weer deelnemen om de nationale dod
 enherdenking te begeleiden
CATEGORIES:Hoofdorkest
LOCATION:Algemene Begraafplaats Geldermalsen\, Lange Akker\, Geldermalsen\,
  Nederland
X-APPLE-STRUCTURED-LOCATION;VALUE=URI;X-ADDRESS=Lange Akker\, Geldermalsen\
 , Nederland;X-APPLE-RADIUS=100;X-TITLE=Algemene Begraafplaats Geldermalsen
 :geo:0,0
END:VEVENT
END:VCALENDAR